BEGIN:VCALENDAR
VERSION:2.0
PRODID:-//Ciglione - ECPv5.14.2.1//NONSGML v1.0//EN
CALSCALE:GREGORIAN
METHOD:PUBLISH
X-WR-CALNAME:Ciglione
X-ORIGINAL-URL:https://www.ciglione.it
X-WR-CALDESC:Eventi per Ciglione
BEGIN:VTIMEZONE
TZID:Europe/Rome
BEGIN:DAYLIGHT
TZOFFSETFROM:+0100
TZOFFSETTO:+0200
TZNAME:CEST
DTSTART:20230326T010000
END:DAYLIGHT
BEGIN:STANDARD
TZOFFSETFROM:+0200
TZOFFSETTO:+0100
TZNAME:CET
DTSTART:20231029T010000
END:STANDARD
END:VTIMEZONE
BEGIN:VEVENT
DTSTART;TZID=Europe/Rome:20230908T200000
DTEND;TZID=Europe/Rome:20230910T200000
DTSTAMP:20260424T063746
CREATED:20230820T164044Z
LAST-MODIFIED:20230824T104529Z
UID:6725-1694203200-1694376000@www.ciglione.it
SUMMARY:4a  FESTA DEL FUNGO ALLA PRO LOCO DI CIGLIONE - 8/ 9/ 10 SETTEMBRE 2023
DESCRIPTION:La Festa del Fungo è diventata un appuntamento immancabile che la Pro Loco di Ciglione propone ogni anno a tutti gli amici che apprezzano le prelibatezze preparate per la gioia dei palati.  Vi aspettiamo in tanti come al solito! \n  \n  \n\nhttps://www.ciglione.it/wp-content/uploads/2023/08/4a-Fetsa-del-Fungo.mp4\nPRENOTAZIONE OBBLIGATORIA AL N. 349 1442878 \nMENU FUNGHI \nhttps://www.ciglione.it/wp-content/uploads/2023/08/Menu-Funghi.mp4
URL:https://www.ciglione.it/evento/4a-festa-del-fungo-alla-pro-loco-di-ciglione-8-9-10-settembre-2023/
LOCATION:Proloco Ciglione Terrazza\, Frazione Ciglione\, Ponzone\, 15010\, Italia
CATEGORIES:Evento Enogastronomico
END:VEVENT
END:VCALENDAR