BEGIN:VCALENDAR
VERSION:2.0
PRODID:-//Ciglione - ECPv5.14.2.1//NONSGML v1.0//EN
CALSCALE:GREGORIAN
METHOD:PUBLISH
X-WR-CALNAME:Ciglione
X-ORIGINAL-URL:https://www.ciglione.it
X-WR-CALDESC:Eventi per Ciglione
BEGIN:VTIMEZONE
TZID:Europe/Rome
BEGIN:DAYLIGHT
TZOFFSETFROM:+0100
TZOFFSETTO:+0200
TZNAME:CEST
DTSTART:20190331T010000
END:DAYLIGHT
BEGIN:STANDARD
TZOFFSETFROM:+0200
TZOFFSETTO:+0100
TZNAME:CET
DTSTART:20191027T010000
END:STANDARD
END:VTIMEZONE
BEGIN:VEVENT
DTSTART;TZID=Europe/Rome:20190818T123000
DTEND;TZID=Europe/Rome:20190818T150000
DTSTAMP:20260424T063349
CREATED:20190720T133538Z
LAST-MODIFIED:20190720T141404Z
UID:6370-1566131400-1566140400@www.ciglione.it
SUMMARY:LA SAGRA D'ORIENTE A CIGLIONE
DESCRIPTION:CIGLIONE IN DATA 18 AGOSTO 2019  –  DALLE ORE 12.30  PRANZO TAILANDESEMENU “SAWADEE” –  € 25\,00/persona acqua e vino inclusi: \nYAM KUNG \n(Insalatina di gamberi) \n PAD VUN SEN \n(Spaghettini saltati in padella alla Thai) \n MOO PAD MANFARANG \n(Straccetti di maiale con patate) \n LAM YAI \n(Occhi di Drago – Frutto tropicale sciroppato) \nVi aspettiamo con piacere per gustare assieme i sapori d’oriente \n_______________________ \nStrada La Valle 77 – Frazione Ciglione\,Ponzone – Alessandria 15010\, Italia \nSi richiede cortesemente di prenotare telefonando a:  \n340 4720040  / 349 1743028
URL:https://www.ciglione.it/evento/6370/
LOCATION:Pro Loco Ciglione\, Strada La Valle 77\, Ponzone\, 15010\, Lussemburgo
CATEGORIES:Evento Enogastronomico
END:VEVENT
END:VCALENDAR