BEGIN:VCALENDAR
VERSION:2.0
PRODID:-//Ciglione - ECPv5.14.2.1//NONSGML v1.0//EN
CALSCALE:GREGORIAN
METHOD:PUBLISH
X-WR-CALNAME:Ciglione
X-ORIGINAL-URL:https://www.ciglione.it
X-WR-CALDESC:Eventi per Ciglione
BEGIN:VTIMEZONE
TZID:Europe/Rome
BEGIN:DAYLIGHT
TZOFFSETFROM:+0100
TZOFFSETTO:+0200
TZNAME:CEST
DTSTART:20200329T010000
END:DAYLIGHT
BEGIN:STANDARD
TZOFFSETFROM:+0200
TZOFFSETTO:+0100
TZNAME:CET
DTSTART:20201025T010000
END:STANDARD
END:VTIMEZONE
BEGIN:VEVENT
DTSTART;TZID=Europe/Rome:20200911T200000
DTEND;TZID=Europe/Rome:20200913T200000
DTSTAMP:20260424T063342
CREATED:20200818T170808Z
LAST-MODIFIED:20200818T171006Z
UID:6517-1599854400-1600027200@www.ciglione.it
SUMMARY:LA FESTA DEL FUNGO A CIGLIONE
DESCRIPTION:VI ASPETTIAMO CON PIACERE PER FAR FESTA TUTTI ASSIEME!
URL:https://www.ciglione.it/evento/6517/
LOCATION:Pro Loco Ciglione\, Strada La Valle 77\, Ponzone\, 15010\, Lussemburgo
CATEGORIES:Evento Enogastronomico
END:VEVENT
END:VCALENDAR