BEGIN:VCALENDAR
VERSION:2.0
PRODID:-//Ciglione - ECPv5.14.2.1//NONSGML v1.0//EN
CALSCALE:GREGORIAN
METHOD:PUBLISH
X-WR-CALNAME:Ciglione
X-ORIGINAL-URL:https://www.ciglione.it
X-WR-CALDESC:Eventi per Ciglione
BEGIN:VTIMEZONE
TZID:Europe/Rome
BEGIN:DAYLIGHT
TZOFFSETFROM:+0100
TZOFFSETTO:+0200
TZNAME:CEST
DTSTART:20190331T010000
END:DAYLIGHT
BEGIN:STANDARD
TZOFFSETFROM:+0200
TZOFFSETTO:+0100
TZNAME:CET
DTSTART:20191027T010000
END:STANDARD
END:VTIMEZONE
BEGIN:VEVENT
DTSTART;TZID=Europe/Rome:20190815T123000
DTEND;TZID=Europe/Rome:20190825T180000
DTSTAMP:20260424T051055
CREATED:20190720T140905Z
LAST-MODIFIED:20190720T140905Z
UID:6380-1565872200-1566756000@www.ciglione.it
SUMMARY:ALCUNI EVENTI IN PROGRAMMA NEL MESE DI AGOSTO 2019
DESCRIPTION:La Proloco di Ciglione nel mese di Agosto 2019 ha messo in programma degli eventi variegati per offrire a tutti gli amici momenti di svago in compagnia e godere del piacere di stare insieme in un contesto naturale piacevole. \nEccone alcuni : \n  \n 
URL:https://www.ciglione.it/evento/alcuni-eventi-in-programma-nel-mese-di-agosto-2019/
LOCATION:Pro Loco Ciglione\, Strada La Valle 77\, Ponzone\, 15010\, Lussemburgo
CATEGORIES:Eventi Vari enogastronomici e musicali
END:VEVENT
END:VCALENDAR