BEGIN:VCALENDAR
VERSION:2.0
PRODID:-//Ciglione - ECPv5.14.2.1//NONSGML v1.0//EN
CALSCALE:GREGORIAN
METHOD:PUBLISH
X-WR-CALNAME:Ciglione
X-ORIGINAL-URL:https://www.ciglione.it
X-WR-CALDESC:Eventi per Ciglione
BEGIN:VTIMEZONE
TZID:Europe/Rome
BEGIN:DAYLIGHT
TZOFFSETFROM:+0100
TZOFFSETTO:+0200
TZNAME:CEST
DTSTART:20250330T010000
END:DAYLIGHT
BEGIN:STANDARD
TZOFFSETFROM:+0200
TZOFFSETTO:+0100
TZNAME:CET
DTSTART:20251026T010000
END:STANDARD
END:VTIMEZONE
BEGIN:VEVENT
DTSTART;TZID=Europe/Rome:20250815T213000
DTEND;TZID=Europe/Rome:20250815T233000
DTSTAMP:20260424T090928
CREATED:20250716T165128Z
LAST-MODIFIED:20250716T165354Z
UID:6794-1755293400-1755300600@www.ciglione.it
SUMMARY:ALDO ASCOLESE IN MEMORIA DI FABRIZIO DE ANDRE'
DESCRIPTION:  \nVenerdì 15 Agosto 2025 avrà luogo il concerto in memoria di Fabrizio De Andrè con la superba interpretazione di ALDO ASCOLESE  
URL:https://www.ciglione.it/evento/aldo-ascolese-in-memoria-di-fabrizio-de-andre/
LOCATION:Proloco Ciglione Terrazza\, Frazione Ciglione\, Ponzone\, 15010\, Italia
CATEGORIES:Eventi Vari enogastronomici e musicali
END:VEVENT
END:VCALENDAR