BEGIN:VCALENDAR
VERSION:2.0
PRODID:-//Ciglione - ECPv5.14.2.1//NONSGML v1.0//EN
CALSCALE:GREGORIAN
METHOD:PUBLISH
X-WR-CALNAME:Ciglione
X-ORIGINAL-URL:https://www.ciglione.it
X-WR-CALDESC:Eventi per Ciglione
BEGIN:VTIMEZONE
TZID:Europe/Rome
BEGIN:DAYLIGHT
TZOFFSETFROM:+0100
TZOFFSETTO:+0200
TZNAME:CEST
DTSTART:20180325T010000
END:DAYLIGHT
BEGIN:STANDARD
TZOFFSETFROM:+0200
TZOFFSETTO:+0100
TZNAME:CET
DTSTART:20181028T010000
END:STANDARD
END:VTIMEZONE
BEGIN:VEVENT
DTSTART;VALUE=DATE:20180823
DTEND;VALUE=DATE:20180824
DTSTAMP:20260423T215610
CREATED:20180821T154509Z
LAST-MODIFIED:20180821T154742Z
UID:6320-1534982400-1535068799@www.ciglione.it
SUMMARY:Apericinema
DESCRIPTION:
URL:https://www.ciglione.it/evento/apericinema/
LOCATION:Ostello di Ciglione\, Frazione Ciglione\, Ponzone\, 15010
CATEGORIES:Lifestyle
END:VEVENT
END:VCALENDAR