BEGIN:VCALENDAR
VERSION:2.0
PRODID:-//Ciglione - ECPv5.14.2.1//NONSGML v1.0//EN
CALSCALE:GREGORIAN
METHOD:PUBLISH
X-WR-CALNAME:Ciglione
X-ORIGINAL-URL:https://www.ciglione.it
X-WR-CALDESC:Eventi per Ciglione
BEGIN:VTIMEZONE
TZID:Europe/Rome
BEGIN:DAYLIGHT
TZOFFSETFROM:+0100
TZOFFSETTO:+0200
TZNAME:CEST
DTSTART:20170326T010000
END:DAYLIGHT
BEGIN:STANDARD
TZOFFSETFROM:+0200
TZOFFSETTO:+0100
TZNAME:CET
DTSTART:20171029T010000
END:STANDARD
END:VTIMEZONE
BEGIN:VEVENT
DTSTART;TZID=Europe/Rome:20171121T080000
DTEND;TZID=Europe/Rome:20171121T170000
DTSTAMP:20260423T085223
CREATED:20171121T164750Z
LAST-MODIFIED:20171121T172050Z
UID:6212-1511251200-1511283600@www.ciglione.it
SUMMARY:ASSAGGIO DI PILATES A CIGLIONE SABATO 25 NOVEMBRE 2017
DESCRIPTION:Sabato e Domenica non ci sarà il corso residenziale di fitwalking e pilates\, ma vogliamo comunque “farvi assaggiare” ciò che faremo in primavera\, organizziamo quindi un assaggio succulento SABATO POMERIGGIO: \nritrovo alle 14.00 all’Ostello di Ciglione\, camminata nei nostri meravigliosi boschi (8km percorso facile)\,  lezione prova pilates e poi apericena all’Ostello. \nil tutto al prezzo di 20€…. sensazionale vero??? \nPer prenotazioni e info chiamare Carla 348 2102497
URL:https://www.ciglione.it/evento/assaggi-di-pilates-a-ciglione-sabato-25-novembre/
LOCATION:Ciglione\, Pro Loco Ciglione - Bar Campo Sportivo\, Ponzone\, 15010\, Italia
END:VEVENT
END:VCALENDAR