BEGIN:VCALENDAR
VERSION:2.0
PRODID:-//Ciglione - ECPv5.14.2.1//NONSGML v1.0//EN
CALSCALE:GREGORIAN
METHOD:PUBLISH
X-WR-CALNAME:Ciglione
X-ORIGINAL-URL:https://www.ciglione.it
X-WR-CALDESC:Eventi per Ciglione
BEGIN:VTIMEZONE
TZID:Europe/Rome
BEGIN:DAYLIGHT
TZOFFSETFROM:+0100
TZOFFSETTO:+0200
TZNAME:CEST
DTSTART:20190331T010000
END:DAYLIGHT
BEGIN:STANDARD
TZOFFSETFROM:+0200
TZOFFSETTO:+0100
TZNAME:CET
DTSTART:20191027T010000
END:STANDARD
END:VTIMEZONE
BEGIN:VEVENT
DTSTART;TZID=Europe/Rome:20190707T080000
DTEND;TZID=Europe/Rome:20190803T170000
DTSTAMP:20260423T231303
CREATED:20190402T142544Z
LAST-MODIFIED:20190402T142544Z
UID:6333-1562486400-1564851600@www.ciglione.it
SUMMARY:BIKE IN THE WOOD
DESCRIPTION:Siamo felicissimi di comunicare che anche quest’anno il WWF ci ha selezionato per la gestione e l’organizzazione dei campi estivi “BIKE IN THE WOOD”.\n§-§-§-§-§-§-§-§\n\nQuest’anno organizzeremo 3 settimane nelle seguenti date:\n 07-13 Luglio\n\n\n14-20 Luglio\n\n\n28-03 Agosto\n\n\n Vi aspettiamo a braccia aperte!\n \nPer tutte le informazioni necessarie seguire il seguente link:\nhttps://www.wwftravel.it/tour/monferrato-campi-ragazzi-bici-mtb/
URL:https://www.ciglione.it/evento/bike-in-the-wood/
LOCATION:Ciglione\, Pro Loco Ciglione - Bar Campo Sportivo\, Ponzone\, 15010\, Italia
CATEGORIES:Sport Vacanza
END:VEVENT
END:VCALENDAR