BEGIN:VCALENDAR
VERSION:2.0
PRODID:-//Ciglione - ECPv5.14.2.1//NONSGML v1.0//EN
CALSCALE:GREGORIAN
METHOD:PUBLISH
X-WR-CALNAME:Ciglione
X-ORIGINAL-URL:https://www.ciglione.it
X-WR-CALDESC:Eventi per Ciglione
BEGIN:VTIMEZONE
TZID:Europe/Rome
BEGIN:DAYLIGHT
TZOFFSETFROM:+0100
TZOFFSETTO:+0200
TZNAME:CEST
DTSTART:20190331T010000
END:DAYLIGHT
BEGIN:STANDARD
TZOFFSETFROM:+0200
TZOFFSETTO:+0100
TZNAME:CET
DTSTART:20191027T010000
END:STANDARD
END:VTIMEZONE
BEGIN:VEVENT
DTSTART;TZID=Europe/Rome:20190808T210000
DTEND;TZID=Europe/Rome:20190829T230000
DTSTAMP:20260424T034612
CREATED:20190720T142442Z
LAST-MODIFIED:20190720T142508Z
UID:6384-1565298000-1567119600@www.ciglione.it
SUMMARY:CINEFORUM: VIAGGIO NELLE EMOZIONI
DESCRIPTION:Anche quest’anno la Proloco di Ciglione ha il piacere di offrire alcune piacevoli serate con la proiezione di  film che ci potranno divertire ed emozionare.  Vi aspettiamo numerosi!
URL:https://www.ciglione.it/evento/cineforum-viaggio-nelle-emozioni/
LOCATION:Pro Loco Ciglione\, Strada La Valle 77\, Ponzone\, 15010\, Lussemburgo
CATEGORIES:Cineforum
END:VEVENT
END:VCALENDAR