BEGIN:VCALENDAR
VERSION:2.0
PRODID:-//Ciglione - ECPv5.14.2.1//NONSGML v1.0//EN
CALSCALE:GREGORIAN
METHOD:PUBLISH
X-WR-CALNAME:Ciglione
X-ORIGINAL-URL:https://www.ciglione.it
X-WR-CALDESC:Eventi per Ciglione
BEGIN:VTIMEZONE
TZID:Europe/Rome
BEGIN:DAYLIGHT
TZOFFSETFROM:+0100
TZOFFSETTO:+0200
TZNAME:CEST
DTSTART:20170326T010000
END:DAYLIGHT
BEGIN:STANDARD
TZOFFSETFROM:+0200
TZOFFSETTO:+0100
TZNAME:CET
DTSTART:20171029T010000
END:STANDARD
END:VTIMEZONE
BEGIN:VEVENT
DTSTART;TZID=Europe/Rome:20170916T203000
DTEND;TZID=Europe/Rome:20170917T130000
DTSTAMP:20260423T042014
CREATED:20170916T101615Z
LAST-MODIFIED:20170916T104821Z
UID:6173-1505593800-1505653200@www.ciglione.it
SUMMARY:FUNGHISSIMAMENTE INSIEME
DESCRIPTION:
URL:https://www.ciglione.it/evento/funghissimamente-insieme/
LOCATION:Ostello di Ciglione\, Frazione Ciglione\, Ponzone\, 15010
ORGANIZER;CN="Pro%20Loco%20Ciglione":MAILTO:info@ciglione.it
END:VEVENT
END:VCALENDAR