BEGIN:VCALENDAR
VERSION:2.0
PRODID:-//Ciglione - ECPv5.14.2.1//NONSGML v1.0//EN
CALSCALE:GREGORIAN
METHOD:PUBLISH
X-WR-CALNAME:Ciglione
X-ORIGINAL-URL:https://www.ciglione.it
X-WR-CALDESC:Eventi per Ciglione
BEGIN:VTIMEZONE
TZID:Europe/Rome
BEGIN:DAYLIGHT
TZOFFSETFROM:+0100
TZOFFSETTO:+0200
TZNAME:CEST
DTSTART:20190331T010000
END:DAYLIGHT
BEGIN:STANDARD
TZOFFSETFROM:+0200
TZOFFSETTO:+0100
TZNAME:CET
DTSTART:20191027T010000
END:STANDARD
END:VTIMEZONE
BEGIN:VEVENT
DTSTART;VALUE=DATE:20190713
DTEND;VALUE=DATE:20190714
DTSTAMP:20260424T004849
CREATED:20190702T160441Z
LAST-MODIFIED:20190702T160841Z
UID:6360-1562976000-1563062399@www.ciglione.it
SUMMARY:FUORI PROGRAMMA
DESCRIPTION:SABATO 13 LUGLIO 2019 \nUna serata sulla terrazza nella struttura della Proloco di Ciglione fra le colline del Comune di Ponzone \n“FUORI PROGRAMMA”  LIVE BAND \nFESTA DELL’ESTATE \nDALLE 20:00 ALLE 23:00 \n \n  \n 
URL:https://www.ciglione.it/evento/fuori-programma/
CATEGORIES:Evento Musicale
END:VEVENT
END:VCALENDAR