BEGIN:VCALENDAR
VERSION:2.0
PRODID:-//Ciglione - ECPv5.14.2.1//NONSGML v1.0//EN
CALSCALE:GREGORIAN
METHOD:PUBLISH
X-WR-CALNAME:Ciglione
X-ORIGINAL-URL:https://www.ciglione.it
X-WR-CALDESC:Eventi per Ciglione
BEGIN:VTIMEZONE
TZID:Europe/Rome
BEGIN:DAYLIGHT
TZOFFSETFROM:+0100
TZOFFSETTO:+0200
TZNAME:CEST
DTSTART:20180325T010000
END:DAYLIGHT
BEGIN:STANDARD
TZOFFSETFROM:+0200
TZOFFSETTO:+0100
TZNAME:CET
DTSTART:20181028T010000
END:STANDARD
END:VTIMEZONE
BEGIN:VEVENT
DTSTART;TZID=Europe/Rome:20180804T200000
DTEND;TZID=Europe/Rome:20180826T160000
DTSTAMP:20260423T203507
CREATED:20180729T094518Z
LAST-MODIFIED:20180729T094518Z
UID:6291-1533412800-1535299200@www.ciglione.it
SUMMARY:Il nuovo Calendario degli eventi di Ciglione  -  2018
DESCRIPTION:Eccoci ancora qui. Una nuova estate è arrivata e per tenere al caldo anche i cuori in compagnia\, la Proloco di Ciglione ha organizzato un mese di Agosto con tante belle occasioni per divertirsi insieme e con leggerezza.  Vi aspettiamo tutti e buon divertimento!  \nPRIMA PARTE\nSECONDA PARTE
URL:https://www.ciglione.it/evento/il-nuovo-calendario-degli-eventi-di-ciglione-2018/
LOCATION:Ciglione Campo Sportivo\, Ciglione\, Ponzone\, 15010
END:VEVENT
END:VCALENDAR