BEGIN:VCALENDAR
VERSION:2.0
PRODID:-//Ciglione - ECPv5.14.2.1//NONSGML v1.0//EN
CALSCALE:GREGORIAN
METHOD:PUBLISH
X-WR-CALNAME:Ciglione
X-ORIGINAL-URL:https://www.ciglione.it
X-WR-CALDESC:Eventi per Ciglione
BEGIN:VTIMEZONE
TZID:Europe/Rome
BEGIN:DAYLIGHT
TZOFFSETFROM:+0100
TZOFFSETTO:+0200
TZNAME:CEST
DTSTART:20220327T010000
END:DAYLIGHT
BEGIN:STANDARD
TZOFFSETFROM:+0200
TZOFFSETTO:+0100
TZNAME:CET
DTSTART:20221030T010000
END:STANDARD
END:VTIMEZONE
BEGIN:VEVENT
DTSTART;TZID=Europe/Rome:20220909T200000
DTEND;TZID=Europe/Rome:20220911T200000
DTSTAMP:20260424T063643
CREATED:20220901T140858Z
LAST-MODIFIED:20220901T143827Z
UID:6664-1662753600-1662926400@www.ciglione.it
SUMMARY:LA FESTA DEL FUNGO CONTINUA A CIGLIONE
DESCRIPTION:Ancora una volta tutti assieme per gustare le prelibatezze preparate con  \nFANTASTICI  FUNGHI \n  \n  \n \nPRENOTAZIONE OBBLIGATORIA AL N. 349 1442878 \n 
URL:https://www.ciglione.it/evento/la-festa-del-fungo-continua-a-ciglione/
LOCATION:Proloco Ciglione Terrazza\, Frazione Ciglione\, Ponzone\, 15010\, Italia
CATEGORIES:Evento Enogastronomico
END:VEVENT
END:VCALENDAR