BEGIN:VCALENDAR
VERSION:2.0
PRODID:-//Ciglione - ECPv5.14.2.1//NONSGML v1.0//EN
CALSCALE:GREGORIAN
METHOD:PUBLISH
X-WR-CALNAME:Ciglione
X-ORIGINAL-URL:https://www.ciglione.it
X-WR-CALDESC:Eventi per Ciglione
BEGIN:VTIMEZONE
TZID:Europe/Rome
BEGIN:DAYLIGHT
TZOFFSETFROM:+0100
TZOFFSETTO:+0200
TZNAME:CEST
DTSTART:20230326T010000
END:DAYLIGHT
BEGIN:STANDARD
TZOFFSETFROM:+0200
TZOFFSETTO:+0100
TZNAME:CET
DTSTART:20231029T010000
END:STANDARD
END:VTIMEZONE
BEGIN:VEVENT
DTSTART;TZID=Europe/Rome:20230726T080000
DTEND;TZID=Europe/Rome:20230726T170000
DTSTAMP:20260424T075435
CREATED:20230726T175216Z
LAST-MODIFIED:20230726T175216Z
UID:6708-1690358400-1690390800@www.ciglione.it
SUMMARY:MAX ALFIERI ALLA PRO LOCO DI CIGLIONE
DESCRIPTION:SABATO 29 LUGLIO 2023 PRESSO LA TERRAZZA DELLA PRO LOCO DI CIGLIONE ALLE ORE 21.00 \nSAREMO PIACEVOLMENTE  INTRATTENUTI DA MAX ALFIERI E LA SUA MUSICA. SIETE TUTTI INVITATI \n 
URL:https://www.ciglione.it/evento/max-alfieri-alla-pro-loco-di-ciglione/
END:VEVENT
END:VCALENDAR