BEGIN:VCALENDAR
VERSION:2.0
PRODID:-//Ciglione - ECPv5.14.2.1//NONSGML v1.0//EN
CALSCALE:GREGORIAN
METHOD:PUBLISH
X-WR-CALNAME:Ciglione
X-ORIGINAL-URL:https://www.ciglione.it
X-WR-CALDESC:Eventi per Ciglione
BEGIN:VTIMEZONE
TZID:Europe/Rome
BEGIN:DAYLIGHT
TZOFFSETFROM:+0100
TZOFFSETTO:+0200
TZNAME:CEST
DTSTART:20180325T010000
END:DAYLIGHT
BEGIN:STANDARD
TZOFFSETFROM:+0200
TZOFFSETTO:+0100
TZNAME:CET
DTSTART:20181028T010000
END:STANDARD
END:VTIMEZONE
BEGIN:VEVENT
DTSTART;TZID=Europe/Rome:20180428T090000
DTEND;TZID=Europe/Rome:20180429T170000
DTSTAMP:20260423T171953
CREATED:20180414T135737Z
LAST-MODIFIED:20180414T135737Z
UID:6281-1524906000-1525021200@www.ciglione.it
SUMMARY:NON SOLO PILATES
DESCRIPTION:Presso l’Ostello di Ciglione un bel Weekend all’insegna del piacere e del benessere.\nVi aspettiamo numerosi!\n 
URL:https://www.ciglione.it/evento/non-solo-pilates/
LOCATION:Ostello di Ciglione\, Frazione Ciglione\, Ponzone\, 15010
CATEGORIES:Lifestyle
ORGANIZER;CN="Ostello%20Ciglione":MAILTO:ostello.ciglione@gmail.com
END:VEVENT
END:VCALENDAR