BEGIN:VCALENDAR
VERSION:2.0
PRODID:-//Ciglione - ECPv5.14.2.1//NONSGML v1.0//EN
CALSCALE:GREGORIAN
METHOD:PUBLISH
X-WR-CALNAME:Ciglione
X-ORIGINAL-URL:https://www.ciglione.it
X-WR-CALDESC:Eventi per Ciglione
BEGIN:VTIMEZONE
TZID:Europe/Rome
BEGIN:DAYLIGHT
TZOFFSETFROM:+0100
TZOFFSETTO:+0200
TZNAME:CEST
DTSTART:20170326T010000
END:DAYLIGHT
BEGIN:STANDARD
TZOFFSETFROM:+0200
TZOFFSETTO:+0100
TZNAME:CET
DTSTART:20171029T010000
END:STANDARD
END:VTIMEZONE
BEGIN:VEVENT
DTSTART;TZID=Europe/Rome:20171206T080000
DTEND;TZID=Europe/Rome:20171206T170000
DTSTAMP:20260423T122656
CREATED:20171206T155413Z
LAST-MODIFIED:20171206T160429Z
UID:6220-1512547200-1512579600@www.ciglione.it
SUMMARY:PRANZO IN COMPAGNIA PER GLI AMICI DI CIGLIONE
DESCRIPTION:  \nVenerdì 8 Dicembre 2017 alle ore 13.00  \nEcco  una nuova occasione per gustare un buon pranzo in buona compagnia presso l’Ostello di Ciglione! \nIl Menù Invernale: \n\nVerdurine gratinate\nPasta e Fagioli\nOssobuco alla Milanese con purè\nDolce\nAcqua e Vino\n\nPrezzo € 15\,00 \nPrenotatevi al  348 2102497 \nVI ASPETTIAMO!!!! \n 
URL:https://www.ciglione.it/evento/pranzo-in-compagnia-per-gli-amici-di-ciglione/
END:VEVENT
END:VCALENDAR