BEGIN:VCALENDAR
VERSION:2.0
PRODID:-//Ciglione - ECPv5.14.2.1//NONSGML v1.0//EN
CALSCALE:GREGORIAN
METHOD:PUBLISH
X-WR-CALNAME:Ciglione
X-ORIGINAL-URL:https://www.ciglione.it
X-WR-CALDESC:Eventi per Ciglione
BEGIN:VTIMEZONE
TZID:Europe/Rome
BEGIN:DAYLIGHT
TZOFFSETFROM:+0100
TZOFFSETTO:+0200
TZNAME:CEST
DTSTART:20170326T010000
END:DAYLIGHT
BEGIN:STANDARD
TZOFFSETFROM:+0200
TZOFFSETTO:+0100
TZNAME:CET
DTSTART:20171029T010000
END:STANDARD
END:VTIMEZONE
BEGIN:VEVENT
DTSTART;TZID=Europe/Rome:20170710T080000
DTEND;TZID=Europe/Rome:20170710T170000
DTSTAMP:20260422T192754
CREATED:20170710T155026Z
LAST-MODIFIED:20170718T160315Z
UID:6107-1499673600-1499706000@www.ciglione.it
SUMMARY:PRO LOCO CIGLIONE - Calendario delle Manifestazioni 2017
DESCRIPTION:Calendario Manifestazioni 2017
URL:https://www.ciglione.it/evento/pro-loco-ciglione-calendario-delle-manifestazioni-2017/
END:VEVENT
END:VCALENDAR