BEGIN:VCALENDAR
VERSION:2.0
PRODID:-//Ciglione - ECPv5.14.2.1//NONSGML v1.0//EN
CALSCALE:GREGORIAN
METHOD:PUBLISH
X-WR-CALNAME:Ciglione
X-ORIGINAL-URL:https://www.ciglione.it
X-WR-CALDESC:Eventi per Ciglione
BEGIN:VTIMEZONE
TZID:Europe/Rome
BEGIN:DAYLIGHT
TZOFFSETFROM:+0100
TZOFFSETTO:+0200
TZNAME:CEST
DTSTART:20240331T010000
END:DAYLIGHT
BEGIN:STANDARD
TZOFFSETFROM:+0200
TZOFFSETTO:+0100
TZNAME:CET
DTSTART:20241027T010000
END:STANDARD
END:VTIMEZONE
BEGIN:VEVENT
DTSTART;TZID=Europe/Rome:20240729T080000
DTEND;TZID=Europe/Rome:20240729T170000
DTSTAMP:20260424T063414
CREATED:20240729T155104Z
LAST-MODIFIED:20240806T193258Z
UID:6735-1722240000-1722272400@www.ciglione.it
SUMMARY:Programma Proloco Estate 2024
DESCRIPTION:ECCOCI ANCORA CON TUTTI VOI\, AMICI VECCHI E NUOVI CHE VORRANNO UNIRSI A NOI.\nQUESTO E’ IL PROGRAMMA CHE ABBIAMO PENSATO PER TUTTI E VI AUGURIAMO BUON DIVERTIMENTO E BUONA ESTATE  2024\n\n  \n \nPER PRENOTAZIONI TELEFONARE A \n– JONELLA  340 0578004 \n– CARLO       347 9102160
URL:https://www.ciglione.it/evento/programma-proloco-estate-2024/
LOCATION:Proloco Ciglione Terrazza\, Frazione Ciglione\, Ponzone\, 15010\, Italia
CATEGORIES:Eventi Vari enogastronomici e musicali
END:VEVENT
END:VCALENDAR