BEGIN:VCALENDAR
VERSION:2.0
PRODID:-//Ciglione - ECPv5.14.2.1//NONSGML v1.0//EN
CALSCALE:GREGORIAN
METHOD:PUBLISH
X-WR-CALNAME:Ciglione
X-ORIGINAL-URL:https://www.ciglione.it
X-WR-CALDESC:Eventi per Ciglione
BEGIN:VTIMEZONE
TZID:Europe/Rome
BEGIN:DAYLIGHT
TZOFFSETFROM:+0100
TZOFFSETTO:+0200
TZNAME:CEST
DTSTART:20170326T010000
END:DAYLIGHT
BEGIN:STANDARD
TZOFFSETFROM:+0200
TZOFFSETTO:+0100
TZNAME:CET
DTSTART:20171029T010000
END:STANDARD
END:VTIMEZONE
BEGIN:VEVENT
DTSTART;TZID=Europe/Rome:20170730T100000
DTEND;TZID=Europe/Rome:20170730T170000
DTSTAMP:20260422T211359
CREATED:20170718T094736Z
LAST-MODIFIED:20170812T074906Z
UID:6114-1501408800-1501434000@www.ciglione.it
SUMMARY:Raduno Moto Harley Davidson
DESCRIPTION:Domenica 30 Luglio  alle ore 10\,00  presso la Pro Loco di  Ciglione avrà luogo  il raduno delle moto più famose al mondo. Saranno condotte da motociclisti vestiti tutti con la stessa uniforme: “la passione” per la HARLEY DAVIDSON.    Alle 12\,30 presso la terrazza della Pro Loco per tutti coloro che lo vorranno si potrà arricchire la giornata con i  piaceri della enogastronomia in compagnia.  Vi aspettiamo numerosi!
URL:https://www.ciglione.it/evento/raduno-moto-harley-davidson/
LOCATION:Ciglione\, Pro Loco Ciglione - Bar Campo Sportivo\, Ponzone\, 15010\, Italia
END:VEVENT
END:VCALENDAR