BEGIN:VCALENDAR
VERSION:2.0
PRODID:-//Ciglione - ECPv5.14.2.1//NONSGML v1.0//EN
CALSCALE:GREGORIAN
METHOD:PUBLISH
X-WR-CALNAME:Ciglione
X-ORIGINAL-URL:https://www.ciglione.it
X-WR-CALDESC:Eventi per Ciglione
BEGIN:VTIMEZONE
TZID:Europe/Rome
BEGIN:DAYLIGHT
TZOFFSETFROM:+0100
TZOFFSETTO:+0200
TZNAME:CEST
DTSTART:20200329T010000
END:DAYLIGHT
BEGIN:STANDARD
TZOFFSETFROM:+0200
TZOFFSETTO:+0100
TZNAME:CET
DTSTART:20201025T010000
END:STANDARD
END:VTIMEZONE
BEGIN:VEVENT
DTSTART;TZID=Europe/Rome:20200820T210000
DTEND;TZID=Europe/Rome:20200820T230000
DTSTAMP:20260424T050828
CREATED:20200731T143037Z
LAST-MODIFIED:20200731T151332Z
UID:6475-1597957200-1597964400@www.ciglione.it
SUMMARY:TRIBUTO A FABRIZIO DE ANDRE'
DESCRIPTION:Un altro anno è passato e la Pro Loco di Ciglione Giovedì 20 Agosto alle ore 21:00\, ancora una volta\, ha il piacere di invitare tutti coloro che amano la musica ad una serata speciale per un tributo a \nFABRIZIO D ANDRE’\nALDO ASCOLESE  \nsarà il meraviglioso interprete della musica di De Andrè.\n \n\nLA SOMMINISTRAZIONE DI CIBI E BEVANDE E’ RISERVATA AI SOCI.  PER TUTTI GLI ALTRI CHE VORRANNO CONDIVIDERE UN PASTO O UN DRINK\, PROVVEDEREMO AD EFFETTUARE IL REGOLARE TESSERAMENTO AL LORO ARRIVO.\nLE MANIFESTAZIONI MUSICALI\, RICREATIVE ECC. SONO APERTE A TUTTI\, SOCI E NON.\n\n 
URL:https://www.ciglione.it/evento/tributo-a-fabrizio-de-andre-2/
CATEGORIES:Evento Musicale
END:VEVENT
END:VCALENDAR