BEGIN:VCALENDAR
VERSION:2.0
PRODID:-//Ciglione - ECPv5.14.2.1//NONSGML v1.0//EN
CALSCALE:GREGORIAN
METHOD:PUBLISH
X-WR-CALNAME:Ciglione
X-ORIGINAL-URL:https://www.ciglione.it
X-WR-CALDESC:Eventi per Ciglione
BEGIN:VTIMEZONE
TZID:Europe/Rome
BEGIN:DAYLIGHT
TZOFFSETFROM:+0100
TZOFFSETTO:+0200
TZNAME:CEST
DTSTART:20190331T010000
END:DAYLIGHT
BEGIN:STANDARD
TZOFFSETFROM:+0200
TZOFFSETTO:+0100
TZNAME:CET
DTSTART:20191027T010000
END:STANDARD
END:VTIMEZONE
BEGIN:VEVENT
DTSTART;TZID=Europe/Rome:20190820T210000
DTEND;TZID=Europe/Rome:20190820T230000
DTSTAMP:20260424T050828
CREATED:20190720T135401Z
LAST-MODIFIED:20190720T135401Z
UID:6377-1566334800-1566342000@www.ciglione.it
SUMMARY:TRIBUTO A FABRIZIO DE ANDRE'
DESCRIPTION:  \nIl 20 Agosto 2019 alle ore 21.00 \nLa Proloco di Ciglione invita tutti a gioire insieme  delle musiche di Fabrizio De Andrè che il bravo Aldo Ascolese ci farà riascoltare in una serata di grande emozione.
URL:https://www.ciglione.it/evento/tributo-a-fabrizio-de-andre/
LOCATION:Pro Loco Ciglione\, Strada La Valle 77\, Ponzone\, 15010\, Lussemburgo
CATEGORIES:Evento Musicale
END:VEVENT
END:VCALENDAR