BEGIN:VCALENDAR
VERSION:2.0
PRODID:-//Ciglione - ECPv5.14.2.1//NONSGML v1.0//EN
CALSCALE:GREGORIAN
METHOD:PUBLISH
X-WR-CALNAME:Ciglione
X-ORIGINAL-URL:https://www.ciglione.it
X-WR-CALDESC:Eventi per Ciglione
BEGIN:VTIMEZONE
TZID:Europe/Rome
BEGIN:DAYLIGHT
TZOFFSETFROM:+0100
TZOFFSETTO:+0200
TZNAME:CEST
DTSTART:20180325T010000
END:DAYLIGHT
BEGIN:STANDARD
TZOFFSETFROM:+0200
TZOFFSETTO:+0100
TZNAME:CET
DTSTART:20181028T010000
END:STANDARD
END:VTIMEZONE
BEGIN:VEVENT
DTSTART;TZID=Europe/Rome:20180820T213000
DTEND;TZID=Europe/Rome:20180820T230000
DTSTAMP:20260423T215345
CREATED:20180729T103858Z
LAST-MODIFIED:20180821T153821Z
UID:6300-1534800600-1534806000@www.ciglione.it
SUMMARY:Una serata per la Memoria
DESCRIPTION:PER COSTRUIRE UN BUON FUTURO OCCORRE RICORDARE IL PASSATO. \n“Ricordare è facile per chi ha memoria. Dimenticare è difficile per chi ha un cuore”. (Gabriel Garcia Marquez) \nIl 20 Agosto 2018  la Proloco di Ciglione ha organizzato una serata per la Memoria a cui tutti siamo invitati per aprire  i nostri cuori ed accogliere insieme il ricordo di un vissuto. 
URL:https://www.ciglione.it/evento/una-serata-per-la-memoria/
LOCATION:Pro Loco Ciglione\, Strada La Valle 77\, Ponzone\, 15010\, Lussemburgo
CATEGORIES:Documentari
ATTACH;FMTTYPE=image/jpeg:https://www.ciglione.it/wp-content/uploads/2018/07/Ciglione_3.jpg
END:VEVENT
END:VCALENDAR