BEGIN:VCALENDAR
VERSION:2.0
PRODID:-//Ciglione - ECPv5.14.2.1//NONSGML v1.0//EN
CALSCALE:GREGORIAN
METHOD:PUBLISH
X-WR-CALNAME:Ciglione
X-ORIGINAL-URL:https://www.ciglione.it
X-WR-CALDESC:Eventi per Ciglione
BEGIN:VTIMEZONE
TZID:Europe/Rome
BEGIN:DAYLIGHT
TZOFFSETFROM:+0100
TZOFFSETTO:+0200
TZNAME:CEST
DTSTART:20170326T010000
END:DAYLIGHT
BEGIN:STANDARD
TZOFFSETFROM:+0200
TZOFFSETTO:+0100
TZNAME:CET
DTSTART:20171029T010000
END:STANDARD
END:VTIMEZONE
BEGIN:VEVENT
DTSTART;TZID=Europe/Rome:20170602T200000
DTEND;TZID=Europe/Rome:20170602T230000
DTSTAMP:20260422T175146
CREATED:20170515T120933Z
LAST-MODIFIED:20170515T132412Z
UID:6069-1496433600-1496444400@www.ciglione.it
SUMMARY:VENERDI 2 GIUGNO 2017  -  ECCO UN ALTRO BUON MOTIVO PER VENIRE A CIGLIONE!
DESCRIPTION: Il 2 Giugno 2017  la Pro Loco di Ciglione offre un piacevole intrattenimento serale per soddisfare il palato e la mente di chi avrà voglia di unirsi a noi. Buon divertimento e Buon Appetito a tutti. \n⇒ E’ gradita la prenotazione. Tel.  333 3937397
URL:https://www.ciglione.it/evento/venerdi-2-giugno-2017-ecco-un-buon-motivo-per-venire-a-ciglione/
ATTACH;FMTTYPE=image/jpeg:https://www.ciglione.it/wp-content/uploads/2017/05/IMG_2218.jpg
END:VEVENT
END:VCALENDAR