BEGIN:VCALENDAR
VERSION:2.0
PRODID:-//Ciglione - ECPv5.14.2.1//NONSGML v1.0//EN
CALSCALE:GREGORIAN
METHOD:PUBLISH
X-WR-CALNAME:Ciglione
X-ORIGINAL-URL:https://www.ciglione.it
X-WR-CALDESC:Eventi per Ciglione
BEGIN:VTIMEZONE
TZID:Europe/Rome
BEGIN:DAYLIGHT
TZOFFSETFROM:+0100
TZOFFSETTO:+0200
TZNAME:CEST
DTSTART:20180325T010000
END:DAYLIGHT
BEGIN:STANDARD
TZOFFSETFROM:+0200
TZOFFSETTO:+0100
TZNAME:CET
DTSTART:20181028T010000
END:STANDARD
END:VTIMEZONE
BEGIN:VEVENT
DTSTART;TZID=Europe/Rome:20180211T123000
DTEND;TZID=Europe/Rome:20180218T190000
DTSTAMP:20260423T155744
CREATED:20180205T115153Z
LAST-MODIFIED:20180206T101524Z
UID:6249-1518352200-1518980400@www.ciglione.it
SUMMARY:VI ASPETTIAMO!
DESCRIPTION:Per non annoiarci mai e stare in compagnia ecco cosa vi proponiamo per i prossimi giorni:
URL:https://www.ciglione.it/evento/vi-aspettiamo/
LOCATION:Ostello di Ciglione\, Frazione Ciglione\, Ponzone\, 15010
ATTACH;FMTTYPE=image/jpeg:https://www.ciglione.it/wp-content/uploads/2018/02/Foto-Ciglione-varie_22.jpg
ORGANIZER;CN="Ostello%20Ciglione":MAILTO:ostello.ciglione@gmail.com
END:VEVENT
END:VCALENDAR